BEGIN:VCALENDAR
VERSION:2.0
PRODID:-//Minette's Angels - ECPv6.0.13.1//NONSGML v1.0//EN
CALSCALE:GREGORIAN
METHOD:PUBLISH
X-WR-CALNAME:Minette's Angels
X-ORIGINAL-URL:https://www.minettesangels.org
X-WR-CALDESC:Events for Minette's Angels
REFRESH-INTERVAL;VALUE=DURATION:PT1H
X-Robots-Tag:noindex
X-PUBLISHED-TTL:PT1H
BEGIN:VTIMEZONE
TZID:America/New_York
BEGIN:DAYLIGHT
TZOFFSETFROM:-0500
TZOFFSETTO:-0400
TZNAME:EDT
DTSTART:20240310T070000
END:DAYLIGHT
BEGIN:STANDARD
TZOFFSETFROM:-0400
TZOFFSETTO:-0500
TZNAME:EST
DTSTART:20241103T060000
END:STANDARD
BEGIN:DAYLIGHT
TZOFFSETFROM:-0500
TZOFFSETTO:-0400
TZNAME:EDT
DTSTART:20250309T070000
END:DAYLIGHT
BEGIN:STANDARD
TZOFFSETFROM:-0400
TZOFFSETTO:-0500
TZNAME:EST
DTSTART:20251102T060000
END:STANDARD
END:VTIMEZONE
BEGIN:VEVENT
DTSTART;TZID=America/New_York:20250504T110000
DTEND;TZID=America/New_York:20250504T150000
DTSTAMP:20260421T220011
CREATED:20250124T164314Z
LAST-MODIFIED:20250331T194620Z
UID:10000016-1746356400-1746370800@www.minettesangels.org
SUMMARY:Annual Spring Brunch
DESCRIPTION:May 4\, 2025 11:00 – 3:00 pm \nYou are cordially invited to Minette’s Angels Annual Spring Brunch. \nLocation\nGlen Ridge Country Club\n  555 Ridgewood Avenue\n  Glen Ridge\, New Jersey 07028 \n  Open in Google Maps \nGuest Speaker\nValerie Iacono\n  Breast Cancer Survivor \n\n    Become a Sponsor\n    See Sponsors\n  \nDownload Invitation\nKindly Support Our Gift Auction \nIf you want to be added to a Waiting List (for cancellations)\, please contact ken@minettesangels.org
URL:https://www.minettesangels.org/event/annual-spring-brunch-2025/
LOCATION:Glen Ridge Country Club\, 555 Ridgewood Avenue\, Glen Ridge\, 07028
CATEGORIES:Breast Cancer Awareness,Fundraisers
ATTACH;FMTTYPE=image/jpeg:https://www.minettesangels.org/wp-content/uploads/2025/01/Annual-Spring-Brunch-2025-graphic.jpg
END:VEVENT
BEGIN:VEVENT
DTSTART;TZID=America/New_York:20241017T180000
DTEND;TZID=America/New_York:20241017T200000
DTSTAMP:20260421T220011
CREATED:20240822T144300Z
LAST-MODIFIED:20240822T160836Z
UID:10000015-1729188000-1729195200@www.minettesangels.org
SUMMARY:10th Annual Real Panthers Wear Pink Walk
DESCRIPTION:Join us for a walk that benefits Minette’s Angels Foundation \nLocation\nPanther Park Field\n  118 W Bradford Avenue\n  Cedar Grove\, New Jersey 07009 \n  Open in Google Maps \nEvent Details\nAll suggested donations will be collected at the gate on day of event.\n All proceeds will be donated to Minette’s Angels.\n (Cash & Checks only\, Checks made payable to Township of Cedar Grove)\n The first 150 $20 donations will receive a T-Shirt! \n\n    Register OnlineBecome a Sponsor\n  \nRead letter from Ken McKenna \nImportant Deadlines\nSeptember 30th for Gold Sponsorship and All Logo Graphics for T-Shirts\n  October 5th for Silver and Bronze Sponsorships \nBreast Cancer Survivor and Memorial Banners\nUpon registration\, you are able to enter a name of someone that is a Breast Cancer Survivor\, as well as someone that would like to be on the In Loving Memory banner. If you would like to have a name included on either banner\, you have the option to give this information upon pre-registration or you can email mlandolfi@cedargrovenj.org.\n*You do not have to be participating in the walk to have a name put on the banner.\n*If your name was already on the survivor banner\, you do not have to add it again.\n*If you know of anyone who was on banner a previous year that is not longer a survivor\, please let us know.
URL:https://www.minettesangels.org/event/10-annual-real-panthers-wear-pink-walk/
LOCATION:Panther Park Facilities\, 118 W Bradford Avenue\, Cedar Grove\, NJ\, 07009\, United States
CATEGORIES:Breast Cancer Awareness,Fundraisers
ATTACH;FMTTYPE=image/jpeg:https://www.minettesangels.org/wp-content/uploads/2024/08/real-panthers-wear-pink-path-mobile.jpg
END:VEVENT
BEGIN:VEVENT
DTSTART;TZID=America/New_York:20240505T110000
DTEND;TZID=America/New_York:20240505T150000
DTSTAMP:20260421T220011
CREATED:20240213T172750Z
LAST-MODIFIED:20240327T180941Z
UID:10000014-1714906800-1714921200@www.minettesangels.org
SUMMARY:May Day Brunch
DESCRIPTION:May 5\, 2024 11:00 – 3:00 pm \nJoin us for a delightful and informative Sunday Brunch. \nLocation\nGlen Ridge Country Club\n  555 Ridgewood Avenue\n  Glen Ridge\, New Jersey 07028 \n  Open in Google Maps \nGuest Speaker\nShridar Ganesan\, MD\, PhD\n  Rutgers Cancer Institute \n\n    Become a Sponsor\n    See Sponsors\n  \nDownload Invitation\nShop for May Day Brunch Wish List
URL:https://www.minettesangels.org/event/may-day-brunch/
LOCATION:Glen Ridge Country Club\, 555 Ridgewood Avenue\, Glen Ridge\, 07028
CATEGORIES:Breast Cancer Awareness,Fundraisers
ATTACH;FMTTYPE=image/png:https://www.minettesangels.org/wp-content/uploads/2024/03/Web-Invite-3.png
END:VEVENT
END:VCALENDAR